BEGIN:VCALENDAR
VERSION:2.0
CALSCALE:GREGORIAN
PRODID:-//Diputació de Barcelona//DibaCMS//EN
BEGIN:VEVENT
UID:3923
DTSTAMP:20260422T163625
DTSTART:20260425T100000
DTEND:20260425T210000
SUMMARY:Agenda esportiva · Futbol Sala Sant Climent · 25 d'abril
LOCATION:Travessia Prat de la Riba , 41 08849 Sant Climent de Llobregat
METHOD:PUBLISH
X-WR-CALNAME:st.climent@santclimentdellobregat.cat
X-WR-TIMEZONE:Europe/Madrid
DESCRIPTION:Aquest cap de setmana els equips del Club Futbol Sala Sant Climent disputen els seus partits!

Dissabte, 25 d’abril


	10:00 h. CFS Sant Climent Prebenjamí  VS  AEEDI Olesa
	12:00 h. CFS Sant Climent Aleví B  VS  Penya Esplugues
	13:30 h. CFS Sant Climent Aleví A  VS  Vilanova del Camí
	15:00 h. CFS Sant Climent Cadet  VS  Castellbisbal
	16:30 h. CFS Sant Climent Infantil A  VS  Gavà López Roca
	18:00 h. CFS Sant Climent Sènior D  VS  Daina Isaard
	19:30 h. CFS Sant Climent Sènior B  VS  Sant Feliu


Us hi esperem per animar als equips!

URI:https://www.santclimentdellobregat.cat/actualitat/agenda/agenda-esportiva--futbol-sala-sant-climent--25-dabril.html
CLASS:PUBLIC
END:VEVENT
END:VCALENDAR
