BEGIN:VCALENDAR
VERSION:2.0
CALSCALE:GREGORIAN
PRODID:-//Diputació de Barcelona//DibaCMS//EN
BEGIN:VEVENT
UID:3909
DTSTAMP:20260420T101645
DTSTART:20260425T220000
DTEND:20260426T013000
SUMMARY:Ludoteca Nocturna mes d'abril
LOCATION:Av. de Pau Casals, 1 08849 Sant Climent de Llobregat
METHOD:PUBLISH
X-WR-CALNAME:st.climent@santclimentdellobregat.cat
X-WR-TIMEZONE:Europe/Madrid
DESCRIPTION:
URI:https://www.santclimentdellobregat.cat/actualitat/agenda/ludoteca-nocturna-mes-dabril.html
CLASS:PUBLIC
END:VEVENT
END:VCALENDAR
