BEGIN:VCALENDAR
VERSION:2.0
CALSCALE:GREGORIAN
PRODID:-//Diputació de Barcelona//DibaCMS//EN
BEGIN:VEVENT
UID:3315
DTSTAMP:20260426T024932
DTSTART:20240929T183000
DTEND:20240929T220000
SUMMARY:Representació de l'obra de teatre: Red Pontiac
LOCATION:Av. de Pau Casals, 1 08849 Sant Climent de Llobregat
METHOD:PUBLISH
X-WR-CALNAME:st.climent@santclimentdellobregat.cat
X-WR-TIMEZONE:Europe/Madrid
DESCRIPTION:
URI:https://www.santclimentdellobregat.cat/actualitat/agenda/representacio-de-lobra-de-teatre-red-pontiac.html
CLASS:PUBLIC
END:VEVENT
END:VCALENDAR
