BEGIN:VCALENDAR
VERSION:2.0
CALSCALE:GREGORIAN
PRODID:-//Diputació de Barcelona//DibaCMS//EN
BEGIN:VEVENT
UID:3271
DTSTAMP:20260421T143739
DTSTART:20240629T110000
DTEND:20240630T140000
SUMMARY:XXIV Concentració de motos d'època 
LOCATION:
METHOD:PUBLISH
X-WR-CALNAME:st.climent@santclimentdellobregat.cat
X-WR-TIMEZONE:Europe/Madrid
DESCRIPTION:
URI:https://www.santclimentdellobregat.cat/actualitat/agenda/xxiv-concentracio-de-motos-depoca-.html
CLASS:PUBLIC
END:VEVENT
END:VCALENDAR
