BEGIN:VCALENDAR
VERSION:2.0
CALSCALE:GREGORIAN
PRODID:-//Diputació de Barcelona//DibaCMS//EN
BEGIN:VEVENT
UID:2909
DTSTAMP:20260423T171150
DTSTART:20230302T163000
DTEND:20230511T000000
SUMMARY:Fem sortir els colors del gris
LOCATION:
METHOD:PUBLISH
X-WR-CALNAME:st.climent@santclimentdellobregat.cat
X-WR-TIMEZONE:Europe/Madrid
DESCRIPTION:
URI:https://www.santclimentdellobregat.cat/actualitat/agenda/fem-sortir-els-colors-del-gris.html
CLASS:PUBLIC
END:VEVENT
END:VCALENDAR
